BEGIN:VCALENDAR
VERSION:2.0
PRODID:-//wp-events-plugin.com//7.2.3.1//EN
TZID:America/New_York
X-WR-TIMEZONE:America/New_York
BEGIN:VEVENT
UID:5@ishhypnosis.org
DTSTART;TZID=Europe/Rome:20270929T080000
DTEND;TZID=Europe/Rome:20271003T080000
DTSTAMP:20251111T170016Z
URL:https://www.ishhypnosis.org/events/xxiii-congress-of-the-international
 -society-of-hypnosis-connecting-minds-and-integrating-resources/
SUMMARY:XXIII Congress of the International Society of Hypnosis “Connecti
 ng Minds and Integrating Resources
DESCRIPTION:29 September to 03 October 2027
ATTACH;FMTTYPE=image/jpeg:https://www.ishhypnosis.org/wp-content/uploads/2
 024/11/HWC-speakers.png
CATEGORIES:ISH Events
LOCATION:84047 Paestum SA\, Italy\,  \, Paestum\, 84047\, SA\, Italy
X-APPLE-STRUCTURED-LOCATION;VALUE=URI;X-ADDRESS= \, Paestum\, 84047\, SA\, 
 Italy;X-APPLE-RADIUS=100;X-TITLE=84047 Paestum SA\, Italy:geo:0,0
END:VEVENT
BEGIN:VTIMEZONE
TZID:Europe/Rome
X-LIC-LOCATION:Europe/Rome
BEGIN:DAYLIGHT
DTSTART:20270328T030000
TZOFFSETFROM:+0100
TZOFFSETTO:+0200
TZNAME:CEST
END:DAYLIGHT
END:VTIMEZONE
END:VCALENDAR